BEGIN:VCALENDAR
VERSION:2.0
PRODID:-//Tow Truck Driver Training - ECPv6.15.20//NONSGML v1.0//EN
CALSCALE:GREGORIAN
METHOD:PUBLISH
X-ORIGINAL-URL:https://towtruck-staging.tangiblelaunchpad.com
X-WR-CALDESC:Events for Tow Truck Driver Training
REFRESH-INTERVAL;VALUE=DURATION:PT1H
X-Robots-Tag:noindex
X-PUBLISHED-TTL:PT1H
BEGIN:VTIMEZONE
TZID:America/Toronto
BEGIN:DAYLIGHT
TZOFFSETFROM:-0500
TZOFFSETTO:-0400
TZNAME:EDT
DTSTART:20230312T070000
END:DAYLIGHT
BEGIN:STANDARD
TZOFFSETFROM:-0400
TZOFFSETTO:-0500
TZNAME:EST
DTSTART:20231105T060000
END:STANDARD
BEGIN:DAYLIGHT
TZOFFSETFROM:-0500
TZOFFSETTO:-0400
TZNAME:EDT
DTSTART:20240310T070000
END:DAYLIGHT
BEGIN:STANDARD
TZOFFSETFROM:-0400
TZOFFSETTO:-0500
TZNAME:EST
DTSTART:20241103T060000
END:STANDARD
BEGIN:DAYLIGHT
TZOFFSETFROM:-0500
TZOFFSETTO:-0400
TZNAME:EDT
DTSTART:20250309T070000
END:DAYLIGHT
BEGIN:STANDARD
TZOFFSETFROM:-0400
TZOFFSETTO:-0500
TZNAME:EST
DTSTART:20251102T060000
END:STANDARD
END:VTIMEZONE
BEGIN:VEVENT
DTSTART;TZID=America/Toronto:20241013T090000
DTEND;TZID=America/Toronto:20241013T150000
DTSTAMP:20260419T144450
CREATED:20240927T143530Z
LAST-MODIFIED:20241212T172216Z
UID:10000482-1728810000-1728831600@towtruck-staging.tangiblelaunchpad.com
SUMMARY:Vineland\, ON Oct 13\, 2024 MTO In-Yard Hands-On Training
DESCRIPTION:
URL:https://towtruck-staging.tangiblelaunchpad.com/event/vineland-on-oct-12-2024-mto-in-yard-hands-on-training/
LOCATION:J N E Recovery\, 4283 Victoria Ave\, Vineland\, ON\, L0R 2C0\, Canada
CATEGORIES:Canada Hands-on
ATTACH;FMTTYPE=image/png:https://towtruck-staging.tangiblelaunchpad.com/wp-content/uploads/2024/06/TTDT-BUTTON-NEW-Evauluation-Temp.png
ORGANIZER;CN="WreckMaster":MAILTO:info@towtruckdrivertraining.ca
END:VEVENT
BEGIN:VEVENT
DTSTART;TZID=America/Toronto:20241012T090000
DTEND;TZID=America/Toronto:20241012T150000
DTSTAMP:20260419T144450
CREATED:20240924T011513Z
LAST-MODIFIED:20241212T172139Z
UID:10000479-1728723600-1728745200@towtruck-staging.tangiblelaunchpad.com
SUMMARY:Vineland\, ON Oct 12\, 2024 MTO In-Yard Hands-On Training
DESCRIPTION:
URL:https://towtruck-staging.tangiblelaunchpad.com/event/vineland-on-oct-12-2024/
LOCATION:J N E Recovery\, 4283 Victoria Ave\, Vineland\, ON\, L0R 2C0\, Canada
CATEGORIES:Canada Hands-on
ATTACH;FMTTYPE=image/png:https://towtruck-staging.tangiblelaunchpad.com/wp-content/uploads/2024/06/TTDT-BUTTON-NEW-Evauluation-Temp.png
ORGANIZER;CN="WreckMaster":MAILTO:info@towtruckdrivertraining.ca
END:VEVENT
BEGIN:VEVENT
DTSTART;TZID=America/Toronto:20240921T100000
DTEND;TZID=America/Toronto:20240921T160000
DTSTAMP:20260419T144450
CREATED:20240909T211945Z
LAST-MODIFIED:20241217T145427Z
UID:10000475-1726912800-1726934400@towtruck-staging.tangiblelaunchpad.com
SUMMARY:Napean\, ON September 21\, 2024 In-Yard Hands-On Training
DESCRIPTION:
URL:https://towtruck-staging.tangiblelaunchpad.com/event/napean-on-september-21-2024-in-yard-hands-on-training/
LOCATION:SMC Towing Group\, 120 Bentley Avenue\, Nepean\, ON\, K2E 6T9\, Canada
CATEGORIES:Canada Hands-on
ATTACH;FMTTYPE=image/png:https://towtruck-staging.tangiblelaunchpad.com/wp-content/uploads/2024/03/YARD-TRAINING-DTS-BUTTON.png
ORGANIZER;CN="WreckMaster":MAILTO:info@towtruckdrivertraining.ca
END:VEVENT
END:VCALENDAR