BEGIN:VCALENDAR
VERSION:2.0
PRODID:-//Tow Truck Driver Training - ECPv6.15.20//NONSGML v1.0//EN
CALSCALE:GREGORIAN
METHOD:PUBLISH
X-WR-CALNAME:Tow Truck Driver Training
X-ORIGINAL-URL:https://towtruck-staging.tangiblelaunchpad.com
X-WR-CALDESC:Events for Tow Truck Driver Training
REFRESH-INTERVAL;VALUE=DURATION:PT1H
X-Robots-Tag:noindex
X-PUBLISHED-TTL:PT1H
BEGIN:VTIMEZONE
TZID:America/Toronto
BEGIN:DAYLIGHT
TZOFFSETFROM:-0500
TZOFFSETTO:-0400
TZNAME:EDT
DTSTART:20240310T070000
END:DAYLIGHT
BEGIN:STANDARD
TZOFFSETFROM:-0400
TZOFFSETTO:-0500
TZNAME:EST
DTSTART:20241103T060000
END:STANDARD
BEGIN:DAYLIGHT
TZOFFSETFROM:-0500
TZOFFSETTO:-0400
TZNAME:EDT
DTSTART:20250309T070000
END:DAYLIGHT
BEGIN:STANDARD
TZOFFSETFROM:-0400
TZOFFSETTO:-0500
TZNAME:EST
DTSTART:20251102T060000
END:STANDARD
BEGIN:DAYLIGHT
TZOFFSETFROM:-0500
TZOFFSETTO:-0400
TZNAME:EDT
DTSTART:20260308T070000
END:DAYLIGHT
BEGIN:STANDARD
TZOFFSETFROM:-0400
TZOFFSETTO:-0500
TZNAME:EST
DTSTART:20261101T060000
END:STANDARD
END:VTIMEZONE
BEGIN:VEVENT
DTSTART;TZID=America/Toronto:20250927T090000
DTEND;TZID=America/Toronto:20250927T150000
DTSTAMP:20260419T120905
CREATED:20250908T190735Z
LAST-MODIFIED:20250908T190735Z
UID:10000570-1758963600-1758985200@towtruck-staging.tangiblelaunchpad.com
SUMMARY:Cookstown ON\, Sept 27\, 2025 MTO In-Yard Hands-On Training
DESCRIPTION:
URL:https://towtruck-staging.tangiblelaunchpad.com/event/cookstown-on-sept-27-2025-mto-in-yard-hands-on-training/
LOCATION:Rescue 51 Towing\, 5370 ON-89\, Cookstown\, ON\, L0L 1L0\, Canada
CATEGORIES:tickets-available
ATTACH;FMTTYPE=image/png:https://towtruck-staging.tangiblelaunchpad.com/wp-content/uploads/2024/12/smaller1.png
ORGANIZER;CN="WreckMaster":MAILTO:info@towtruckdrivertraining.ca
END:VEVENT
BEGIN:VEVENT
DTSTART;TZID=America/Toronto:20250921T090000
DTEND;TZID=America/Toronto:20250921T150000
DTSTAMP:20260419T120905
CREATED:20250828T215547Z
LAST-MODIFIED:20250828T215547Z
UID:10000567-1758445200-1758466800@towtruck-staging.tangiblelaunchpad.com
SUMMARY:Cornwall ON\, Sept 21\, 2025 MTO In-Yard Hands-On Training
DESCRIPTION:
URL:https://towtruck-staging.tangiblelaunchpad.com/event/cornwall-on-sept-21-2025-mto-in-yard-hands-on-training/
LOCATION:Herb’s Towing Inc\, 1701 McConnell Ave\, Cornwall\, ON\, K6H 0B9\, Canada
CATEGORIES:tickets-available
ATTACH;FMTTYPE=image/png:https://towtruck-staging.tangiblelaunchpad.com/wp-content/uploads/2024/12/smaller1.png
ORGANIZER;CN="WreckMaster":MAILTO:info@towtruckdrivertraining.ca
END:VEVENT
BEGIN:VEVENT
DTSTART;TZID=America/Toronto:20250912T090000
DTEND;TZID=America/Toronto:20250912T150000
DTSTAMP:20260419T120905
CREATED:20250829T194306Z
LAST-MODIFIED:20250829T194306Z
UID:10000568-1757667600-1757689200@towtruck-staging.tangiblelaunchpad.com
SUMMARY:Kitchener ON\, Sept 12\, 2025 MTO In-Yard Hands-On Training
DESCRIPTION:
URL:https://towtruck-staging.tangiblelaunchpad.com/event/kitchener-on-sept-12-2025-mto-in-yard-hands-on-training/
LOCATION:PTAO Trade Show 2025\, 425 Bingemans Centre Dr\, Kitchener\, ON\, N2B 3X7\, Canada
CATEGORIES:tickets-available
ATTACH;FMTTYPE=image/png:https://towtruck-staging.tangiblelaunchpad.com/wp-content/uploads/2024/12/smaller1.png
ORGANIZER;CN="WreckMaster":MAILTO:info@towtruckdrivertraining.ca
END:VEVENT
BEGIN:VEVENT
DTSTART;TZID=America/Toronto:20250907T090000
DTEND;TZID=America/Toronto:20250907T150000
DTSTAMP:20260419T120905
CREATED:20250825T142412Z
LAST-MODIFIED:20250825T142412Z
UID:10000566-1757235600-1757257200@towtruck-staging.tangiblelaunchpad.com
SUMMARY:Toronto ON\, September 7\, 2025 MTO In-Yard Hands-On Training
DESCRIPTION:
URL:https://towtruck-staging.tangiblelaunchpad.com/event/toronto-on-september-7-2025-mto-in-yard-hands-on-training/
LOCATION:JP Towing Service\, 11 Glen Scarlett Road\, Toronto\, ON\, M6N 1P5\, Canada
CATEGORIES:tickets-available
ATTACH;FMTTYPE=image/png:https://towtruck-staging.tangiblelaunchpad.com/wp-content/uploads/2024/12/smaller1.png
ORGANIZER;CN="WreckMaster":MAILTO:info@towtruckdrivertraining.ca
END:VEVENT
BEGIN:VEVENT
DTSTART;TZID=America/Toronto:20250831T090000
DTEND;TZID=America/Toronto:20250831T150000
DTSTAMP:20260419T120905
CREATED:20250825T141200Z
LAST-MODIFIED:20250825T141200Z
UID:10000565-1756630800-1756652400@towtruck-staging.tangiblelaunchpad.com
SUMMARY:Cambridge ON\, Aug 31\, 2025 MTO In-Yard Hands-On Training
DESCRIPTION:
URL:https://towtruck-staging.tangiblelaunchpad.com/event/cambridge-on-aug-31-2025-mto-in-yard-hands-on-training/
LOCATION:Eagle Towing Equipment\, 2455 Eagle Street North\, Cambridge\, ON\, N3H 4R7\, Canada
CATEGORIES:tickets-available
ATTACH;FMTTYPE=image/png:https://towtruck-staging.tangiblelaunchpad.com/wp-content/uploads/2024/12/smaller1.png
ORGANIZER;CN="WreckMaster":MAILTO:info@towtruckdrivertraining.ca
END:VEVENT
BEGIN:VEVENT
DTSTART;TZID=America/Toronto:20250830T090000
DTEND;TZID=America/Toronto:20250830T150000
DTSTAMP:20260419T120905
CREATED:20250811T223353Z
LAST-MODIFIED:20250819T125432Z
UID:10000563-1756544400-1756566000@towtruck-staging.tangiblelaunchpad.com
SUMMARY:Cambridge ON\, Aug 30\, 2025 MTO In-Yard Hands-On Training
DESCRIPTION:
URL:https://towtruck-staging.tangiblelaunchpad.com/event/cambridge-on-aug-30-2025-mto-in-yard-hands-on-training/
LOCATION:Eagle Towing Equipment\, 2455 Eagle Street North\, Cambridge\, ON\, N3H 4R7\, Canada
CATEGORIES:tickets-available
ATTACH;FMTTYPE=image/png:https://towtruck-staging.tangiblelaunchpad.com/wp-content/uploads/2024/12/smaller1.png
ORGANIZER;CN="WreckMaster":MAILTO:info@towtruckdrivertraining.ca
END:VEVENT
BEGIN:VEVENT
DTSTART;TZID=America/Toronto:20250824T090000
DTEND;TZID=America/Toronto:20250824T150000
DTSTAMP:20260419T120905
CREATED:20250803T183531Z
LAST-MODIFIED:20250804T181658Z
UID:10000559-1756026000-1756047600@towtruck-staging.tangiblelaunchpad.com
SUMMARY:Cornwall ON\, Aug 24\, 2025 MTO In-Yard Hands-On Training
DESCRIPTION:
URL:https://towtruck-staging.tangiblelaunchpad.com/event/cornwall-on-aug-24-2025-mto-in-yard-hands-on-training/
LOCATION:Herb’s Towing Inc\, 1701 McConnell Ave\, Cornwall\, ON\, K6H 0B9\, Canada
CATEGORIES:tickets-available
ATTACH;FMTTYPE=image/png:https://towtruck-staging.tangiblelaunchpad.com/wp-content/uploads/2024/12/smaller1.png
ORGANIZER;CN="WreckMaster":MAILTO:info@towtruckdrivertraining.ca
END:VEVENT
BEGIN:VEVENT
DTSTART;TZID=America/Toronto:20250823T090000
DTEND;TZID=America/Toronto:20250823T150000
DTSTAMP:20260419T120905
CREATED:20250811T214248Z
LAST-MODIFIED:20250819T125424Z
UID:10000562-1755939600-1755961200@towtruck-staging.tangiblelaunchpad.com
SUMMARY:Cookstown ON\, Aug 23\, 2025 MTO In-Yard Hands-On Training
DESCRIPTION:
URL:https://towtruck-staging.tangiblelaunchpad.com/event/cookstown-on-aug-23-2025-mto-in-yard-hands-on-training/
LOCATION:Rescue 51 Towing\, 5370 ON-89\, Cookstown\, ON\, L0L 1L0\, Canada
CATEGORIES:tickets-available
ATTACH;FMTTYPE=image/png:https://towtruck-staging.tangiblelaunchpad.com/wp-content/uploads/2024/12/smaller1.png
ORGANIZER;CN="WreckMaster":MAILTO:info@towtruckdrivertraining.ca
END:VEVENT
BEGIN:VEVENT
DTSTART;TZID=America/Toronto:20250817T090000
DTEND;TZID=America/Toronto:20250817T150000
DTSTAMP:20260419T120905
CREATED:20250807T154522Z
LAST-MODIFIED:20250808T182919Z
UID:10000561-1755421200-1755442800@towtruck-staging.tangiblelaunchpad.com
SUMMARY:Cambridge ON\, Aug 17\, 2025 MTO In-Yard Hands-On Training
DESCRIPTION:
URL:https://towtruck-staging.tangiblelaunchpad.com/event/cambridge-on-aug-17-2025-mto-in-yard-hands-on-training/
LOCATION:Eagle Towing Equipment\, 2455 Eagle Street North\, Cambridge\, ON\, N3H 4R7\, Canada
ATTACH;FMTTYPE=image/png:https://towtruck-staging.tangiblelaunchpad.com/wp-content/uploads/2024/12/smaller1.png
ORGANIZER;CN="WreckMaster":MAILTO:info@towtruckdrivertraining.ca
END:VEVENT
BEGIN:VEVENT
DTSTART;TZID=America/Toronto:20250816T090000
DTEND;TZID=America/Toronto:20250816T150000
DTSTAMP:20260419T120905
CREATED:20250801T024941Z
LAST-MODIFIED:20250808T182819Z
UID:10000558-1755334800-1755356400@towtruck-staging.tangiblelaunchpad.com
SUMMARY:Cambridge ON\, Aug 16\, 2025 MTO In-Yard Hands-On Training
DESCRIPTION:
URL:https://towtruck-staging.tangiblelaunchpad.com/event/cambridge-on-aug-16-2025-mto-in-yard-hands-on-training/
LOCATION:Eagle Towing Equipment\, 2455 Eagle Street North\, Cambridge\, ON\, N3H 4R7\, Canada
CATEGORIES:tickets-available
ATTACH;FMTTYPE=image/png:https://towtruck-staging.tangiblelaunchpad.com/wp-content/uploads/2024/12/smaller1.png
ORGANIZER;CN="WreckMaster":MAILTO:info@towtruckdrivertraining.ca
END:VEVENT
BEGIN:VEVENT
DTSTART;TZID=America/Toronto:20250803T090000
DTEND;TZID=America/Toronto:20250803T150000
DTSTAMP:20260419T120905
CREATED:20250729T150535Z
LAST-MODIFIED:20250731T172306Z
UID:10000557-1754211600-1754233200@towtruck-staging.tangiblelaunchpad.com
SUMMARY:Cambridge ON\, Aug 3\, 2025 MTO In-Yard Hands-On Training
DESCRIPTION:
URL:https://towtruck-staging.tangiblelaunchpad.com/event/cambridge-on-aug-3-2025-mto-in-yard-hands-on-training/
LOCATION:Eagle Towing Equipment\, 2455 Eagle Street North\, Cambridge\, ON\, N3H 4R7\, Canada
CATEGORIES:tickets-available
ATTACH;FMTTYPE=image/png:https://towtruck-staging.tangiblelaunchpad.com/wp-content/uploads/2024/12/smaller1.png
ORGANIZER;CN="WreckMaster":MAILTO:info@towtruckdrivertraining.ca
END:VEVENT
BEGIN:VEVENT
DTSTART;TZID=America/Toronto:20250802T090000
DTEND;TZID=America/Toronto:20250802T150000
DTSTAMP:20260419T120905
CREATED:20250718T215727Z
LAST-MODIFIED:20250731T172257Z
UID:10000556-1754125200-1754146800@towtruck-staging.tangiblelaunchpad.com
SUMMARY:Cambridge ON\, Aug 2\, 2025 MTO In-Yard Hands-On Training
DESCRIPTION:
URL:https://towtruck-staging.tangiblelaunchpad.com/event/cambridge-on-aug-2-2025-mto-in-yard-hands-on-training/
LOCATION:Eagle Towing Equipment\, 2455 Eagle Street North\, Cambridge\, ON\, N3H 4R7\, Canada
CATEGORIES:tickets-available
ATTACH;FMTTYPE=image/png:https://towtruck-staging.tangiblelaunchpad.com/wp-content/uploads/2024/12/smaller1.png
ORGANIZER;CN="WreckMaster":MAILTO:info@towtruckdrivertraining.ca
END:VEVENT
BEGIN:VEVENT
DTSTART;TZID=America/Toronto:20250726T090000
DTEND;TZID=America/Toronto:20250726T150000
DTSTAMP:20260419T120905
CREATED:20250715T192351Z
LAST-MODIFIED:20250720T052314Z
UID:10000555-1753520400-1753542000@towtruck-staging.tangiblelaunchpad.com
SUMMARY:Chatham ON\, July 26\, 2025 MTO In-Yard Hands-On Training
DESCRIPTION:
URL:https://towtruck-staging.tangiblelaunchpad.com/event/chatham-on-july-26-2025-mto-in-yard-hands-on-training/
LOCATION:Chatham Towing Services Ltd\, 745 Richmond St\, Chatham\, Ontario\, N7M 5J5\, Canada
CATEGORIES:tickets-available
ATTACH;FMTTYPE=image/png:https://towtruck-staging.tangiblelaunchpad.com/wp-content/uploads/2024/12/smaller1.png
ORGANIZER;CN="WreckMaster":MAILTO:info@towtruckdrivertraining.ca
END:VEVENT
BEGIN:VEVENT
DTSTART;TZID=America/Toronto:20250726T090000
DTEND;TZID=America/Toronto:20250726T150000
DTSTAMP:20260419T120905
CREATED:20250708T222601Z
LAST-MODIFIED:20250718T105755Z
UID:10000553-1753520400-1753542000@towtruck-staging.tangiblelaunchpad.com
SUMMARY:Cornwall ON\, July 26\, 2025 MTO In-Yard Hands-On Training
DESCRIPTION:
URL:https://towtruck-staging.tangiblelaunchpad.com/event/cornwall-on-july-26-2025-mto-in-yard-hands-on-training/
LOCATION:Herb’s Towing Inc\, 1701 McConnell Ave\, Cornwall\, ON\, K6H 0B9\, Canada
CATEGORIES:tickets-available
ATTACH;FMTTYPE=image/png:https://towtruck-staging.tangiblelaunchpad.com/wp-content/uploads/2024/12/smaller1.png
ORGANIZER;CN="WreckMaster":MAILTO:info@towtruckdrivertraining.ca
END:VEVENT
BEGIN:VEVENT
DTSTART;TZID=America/Toronto:20250720T090000
DTEND;TZID=America/Toronto:20250720T150000
DTSTAMP:20260419T120905
CREATED:20250715T171154Z
LAST-MODIFIED:20250718T105740Z
UID:10000554-1753002000-1753023600@towtruck-staging.tangiblelaunchpad.com
SUMMARY:Toronto ON\, July 20\, 2025 MTO In-Yard Hands-On Training
DESCRIPTION:
URL:https://towtruck-staging.tangiblelaunchpad.com/event/toronto-on-july-20-2025-mto-in-yard-hands-on-training/
LOCATION:JP Towing Service\, 11 Glen Scarlett Road\, Toronto\, ON\, M6N 1P5\, Canada
CATEGORIES:tickets-available
ATTACH;FMTTYPE=image/png:https://towtruck-staging.tangiblelaunchpad.com/wp-content/uploads/2024/12/smaller1.png
ORGANIZER;CN="WreckMaster":MAILTO:info@towtruckdrivertraining.ca
END:VEVENT
BEGIN:VEVENT
DTSTART;TZID=America/Toronto:20250719T090000
DTEND;TZID=America/Toronto:20250719T150000
DTSTAMP:20260419T120905
CREATED:20250705T190628Z
LAST-MODIFIED:20250718T105728Z
UID:10000552-1752915600-1752937200@towtruck-staging.tangiblelaunchpad.com
SUMMARY:Toronto ON\, July 19\, 2025 MTO In-Yard Hands-On Training
DESCRIPTION:
URL:https://towtruck-staging.tangiblelaunchpad.com/event/toronto-on-july-19-2025-mto-in-yard-hands-on-training/
LOCATION:JP Towing Service\, 11 Glen Scarlett Road\, Toronto\, ON\, M6N 1P5\, Canada
CATEGORIES:tickets-available
ATTACH;FMTTYPE=image/png:https://towtruck-staging.tangiblelaunchpad.com/wp-content/uploads/2024/12/smaller1.png
ORGANIZER;CN="WreckMaster":MAILTO:info@towtruckdrivertraining.ca
END:VEVENT
BEGIN:VEVENT
DTSTART;TZID=America/Toronto:20250713T090000
DTEND;TZID=America/Toronto:20250713T150000
DTSTAMP:20260419T120905
CREATED:20250620T135908Z
LAST-MODIFIED:20250620T181840Z
UID:10000548-1752397200-1752418800@towtruck-staging.tangiblelaunchpad.com
SUMMARY:Cookstown ON\, July 13\, 2025 MTO In-Yard Hands-On Training
DESCRIPTION:
URL:https://towtruck-staging.tangiblelaunchpad.com/event/cookstown-on-july-13-2025-mto-in-yard-hands-on-training/
LOCATION:Rescue 51 Towing\, 5370 ON-89\, Cookstown\, ON\, L0L 1L0\, Canada
CATEGORIES:tickets-available
ATTACH;FMTTYPE=image/png:https://towtruck-staging.tangiblelaunchpad.com/wp-content/uploads/2024/12/smaller1.png
ORGANIZER;CN="WreckMaster":MAILTO:info@towtruckdrivertraining.ca
END:VEVENT
BEGIN:VEVENT
DTSTART;TZID=America/Toronto:20250712T090000
DTEND;TZID=America/Toronto:20250712T150000
DTSTAMP:20260419T120905
CREATED:20250705T185632Z
LAST-MODIFIED:20250705T185632Z
UID:10000551-1752310800-1752332400@towtruck-staging.tangiblelaunchpad.com
SUMMARY:Cookstown ON\, July 12\, 2025 MTO In-Yard Hands-On Training
DESCRIPTION:
URL:https://towtruck-staging.tangiblelaunchpad.com/event/cookstown-on-july-12-2025-mto-in-yard-hands-on-training/
LOCATION:Rescue 51 Towing\, 5370 ON-89\, Cookstown\, ON\, L0L 1L0\, Canada
ATTACH;FMTTYPE=image/png:https://towtruck-staging.tangiblelaunchpad.com/wp-content/uploads/2024/12/smaller1.png
ORGANIZER;CN="WreckMaster":MAILTO:info@towtruckdrivertraining.ca
END:VEVENT
BEGIN:VEVENT
DTSTART;TZID=America/Toronto:20250706T090000
DTEND;TZID=America/Toronto:20250706T150000
DTSTAMP:20260419T120905
CREATED:20250702T151039Z
LAST-MODIFIED:20250702T161239Z
UID:10000550-1751792400-1751814000@towtruck-staging.tangiblelaunchpad.com
SUMMARY:Niagara Falls ON\, July 6\, 2025 MTO In-Yard Hands-On Training
DESCRIPTION:
URL:https://towtruck-staging.tangiblelaunchpad.com/event/niagara-falls-on-july-6-2025-mto-in-yard-hands-on-training/
LOCATION:Parkway Towing\, 3516 Marshall Rd\, Niagara Falls\, ON\, L2E 6S6\, Canada
CATEGORIES:tickets-available
ATTACH;FMTTYPE=image/png:https://towtruck-staging.tangiblelaunchpad.com/wp-content/uploads/2024/12/smaller1.png
ORGANIZER;CN="WreckMaster":MAILTO:info@towtruckdrivertraining.ca
END:VEVENT
BEGIN:VEVENT
DTSTART;TZID=America/Toronto:20250705T090000
DTEND;TZID=America/Toronto:20250705T150000
DTSTAMP:20260419T120905
CREATED:20250620T135105Z
LAST-MODIFIED:20250620T181442Z
UID:10000547-1751706000-1751727600@towtruck-staging.tangiblelaunchpad.com
SUMMARY:Niagara Falls ON\, July 5\, 2025 MTO In-Yard Hands-On Training
DESCRIPTION:
URL:https://towtruck-staging.tangiblelaunchpad.com/event/niagara-falls-on-july-5-2025-mto-in-yard-hands-on-training/
LOCATION:Parkway Towing\, 3516 Marshall Rd\, Niagara Falls\, ON\, L2E 6S6\, Canada
CATEGORIES:tickets-available
ATTACH;FMTTYPE=image/png:https://towtruck-staging.tangiblelaunchpad.com/wp-content/uploads/2024/12/smaller1.png
ORGANIZER;CN="WreckMaster":MAILTO:info@towtruckdrivertraining.ca
END:VEVENT
BEGIN:VEVENT
DTSTART;TZID=America/Toronto:20250622T090000
DTEND;TZID=America/Toronto:20250622T150000
DTSTAMP:20260419T120905
CREATED:20250616T143029Z
LAST-MODIFIED:20250616T143029Z
UID:10000546-1750582800-1750604400@towtruck-staging.tangiblelaunchpad.com
SUMMARY:Vineland ON\, June 22\, 2025 MTO In-Yard Hands-On Training
DESCRIPTION:
URL:https://towtruck-staging.tangiblelaunchpad.com/event/vineland-on-june-22-2025-mto-in-yard-hands-on-training/
LOCATION:J N E Recovery\, 4283 Victoria Ave\, Vineland\, ON\, L0R 2C0\, Canada
ATTACH;FMTTYPE=image/png:https://towtruck-staging.tangiblelaunchpad.com/wp-content/uploads/2024/12/smaller1.png
ORGANIZER;CN="WreckMaster":MAILTO:info@towtruckdrivertraining.ca
END:VEVENT
BEGIN:VEVENT
DTSTART;TZID=America/Toronto:20250622T090000
DTEND;TZID=America/Toronto:20250622T150000
DTSTAMP:20260419T120905
CREATED:20250602T182101Z
LAST-MODIFIED:20250609T123905Z
UID:10000543-1750582800-1750604400@towtruck-staging.tangiblelaunchpad.com
SUMMARY:North Bay ON\, June 22 2025\, MTO In-Yard Hands On Training
DESCRIPTION:
URL:https://towtruck-staging.tangiblelaunchpad.com/event/north-bay-on-june-22-2025-mto-in-yard-hands-on-training/
LOCATION:Bartlett’s Towing Inc\, 1745 Seymour St\, North Bay\, ON\, P1A 0C6\, Canada
CATEGORIES:tickets-available
ATTACH;FMTTYPE=image/png:https://towtruck-staging.tangiblelaunchpad.com/wp-content/uploads/2024/12/smaller1.png
ORGANIZER;CN="WreckMaster":MAILTO:info@towtruckdrivertraining.ca
END:VEVENT
BEGIN:VEVENT
DTSTART;TZID=America/Toronto:20250621T090000
DTEND;TZID=America/Toronto:20250621T150000
DTSTAMP:20260419T120905
CREATED:20250609T140941Z
LAST-MODIFIED:20250609T140941Z
UID:10000545-1750496400-1750518000@towtruck-staging.tangiblelaunchpad.com
SUMMARY:Vineland ON\, June 21\, 2025 MTO In-Yard Hands-On Training
DESCRIPTION:
URL:https://towtruck-staging.tangiblelaunchpad.com/event/vineland-on-june-21-2025-mto-in-yard-hands-on-training/
LOCATION:J N E Recovery\, 4283 Victoria Ave\, Vineland\, ON\, L0R 2C0\, Canada
ATTACH;FMTTYPE=image/png:https://towtruck-staging.tangiblelaunchpad.com/wp-content/uploads/2024/12/smaller1.png
ORGANIZER;CN="WreckMaster":MAILTO:info@towtruckdrivertraining.ca
END:VEVENT
BEGIN:VEVENT
DTSTART;TZID=America/Toronto:20250621T090000
DTEND;TZID=America/Toronto:20250621T150000
DTSTAMP:20260419T120905
CREATED:20250528T173933Z
LAST-MODIFIED:20250609T141659Z
UID:10000541-1750496400-1750518000@towtruck-staging.tangiblelaunchpad.com
SUMMARY:Cornwall ON\, June 21 2025\, MTO In-Yard Hands-On Training
DESCRIPTION:
URL:https://towtruck-staging.tangiblelaunchpad.com/event/cornwall-on-june-14-2025-mto-in-yard-hands-on-training/
LOCATION:Herb’s Towing Inc\, 1701 McConnell Ave\, Cornwall\, ON\, K6H 0B9\, Canada
CATEGORIES:tickets-available
ATTACH;FMTTYPE=image/png:https://towtruck-staging.tangiblelaunchpad.com/wp-content/uploads/2024/12/smaller1.png
ORGANIZER;CN="WreckMaster":MAILTO:info@towtruckdrivertraining.ca
END:VEVENT
BEGIN:VEVENT
DTSTART;TZID=America/Toronto:20250615T090000
DTEND;TZID=America/Toronto:20250615T150000
DTSTAMP:20260419T120905
CREATED:20250604T134519Z
LAST-MODIFIED:20250609T123845Z
UID:10000544-1749978000-1749999600@towtruck-staging.tangiblelaunchpad.com
SUMMARY:Cambridge ON\, June 15\, 2025 MTO In-Yard Hands-On Training
DESCRIPTION:
URL:https://towtruck-staging.tangiblelaunchpad.com/event/cambridge-on-june-15-2025-mto-in-yard-hands-on-training/
LOCATION:Eagle Towing Equipment\, 2455 Eagle Street North\, Cambridge\, ON\, N3H 4R7\, Canada
CATEGORIES:tickets-available
ATTACH;FMTTYPE=image/png:https://towtruck-staging.tangiblelaunchpad.com/wp-content/uploads/2024/12/smaller1.png
ORGANIZER;CN="WreckMaster":MAILTO:info@towtruckdrivertraining.ca
END:VEVENT
BEGIN:VEVENT
DTSTART;TZID=America/Toronto:20250601T090000
DTEND;TZID=America/Toronto:20250601T150000
DTSTAMP:20260419T120905
CREATED:20250523T141238Z
LAST-MODIFIED:20250526T200326Z
UID:10000540-1748768400-1748790000@towtruck-staging.tangiblelaunchpad.com
SUMMARY:Cambridge ON\, June 1\, 2025 MTO In-Yard Hands-On Training
DESCRIPTION:
URL:https://towtruck-staging.tangiblelaunchpad.com/event/cambridge-on-june-1-2025-mto-in-yard-hands-on-training/
LOCATION:Eagle Towing Equipment\, 2455 Eagle Street North\, Cambridge\, ON\, N3H 4R7\, Canada
CATEGORIES:tickets-available
ATTACH;FMTTYPE=image/png:https://towtruck-staging.tangiblelaunchpad.com/wp-content/uploads/2024/12/smaller1.png
ORGANIZER;CN="WreckMaster":MAILTO:info@towtruckdrivertraining.ca
END:VEVENT
BEGIN:VEVENT
DTSTART;TZID=America/Toronto:20250531T090000
DTEND;TZID=America/Toronto:20250531T150000
DTSTAMP:20260419T120905
CREATED:20250507T233410Z
LAST-MODIFIED:20250527T113106Z
UID:10000538-1748682000-1748703600@towtruck-staging.tangiblelaunchpad.com
SUMMARY:Cambridge ON\, May 31\, 2025 MTO In-Yard Hands-On Training
DESCRIPTION:
URL:https://towtruck-staging.tangiblelaunchpad.com/event/cambridge-on-may-31-2025-mto-in-yard-hands-on-training/
LOCATION:Eagle Towing Equipment\, 2455 Eagle Street North\, Cambridge\, ON\, N3H 4R7\, Canada
CATEGORIES:tickets-available
ATTACH;FMTTYPE=image/png:https://towtruck-staging.tangiblelaunchpad.com/wp-content/uploads/2024/12/smaller1.png
ORGANIZER;CN="WreckMaster":MAILTO:info@towtruckdrivertraining.ca
END:VEVENT
BEGIN:VEVENT
DTSTART;TZID=America/Toronto:20250524T090000
DTEND;TZID=America/Toronto:20250524T150000
DTSTAMP:20260419T120905
CREATED:20250512T212552Z
LAST-MODIFIED:20250514T194251Z
UID:10000539-1748077200-1748098800@towtruck-staging.tangiblelaunchpad.com
SUMMARY:Toronto ON\, May 24\, 2025 MTO In-Yard Hands-On Training
DESCRIPTION:
URL:https://towtruck-staging.tangiblelaunchpad.com/event/toronto-on-may-24-2025-mto-in-yard-hands-on-training/
LOCATION:JP Towing Service\, 11 Glen Scarlett Road\, Toronto\, ON\, M6N 1P5\, Canada
CATEGORIES:tickets-available
ATTACH;FMTTYPE=image/png:https://towtruck-staging.tangiblelaunchpad.com/wp-content/uploads/2024/12/smaller1.png
ORGANIZER;CN="WreckMaster":MAILTO:info@towtruckdrivertraining.ca
END:VEVENT
BEGIN:VEVENT
DTSTART;TZID=America/Toronto:20250518T090000
DTEND;TZID=America/Toronto:20250518T150000
DTSTAMP:20260419T120905
CREATED:20250507T232847Z
LAST-MODIFIED:20250508T193410Z
UID:10000537-1747558800-1747580400@towtruck-staging.tangiblelaunchpad.com
SUMMARY:Cambridge ON\, May 18\, 2025 MTO In-Yard Hands-On Training
DESCRIPTION:
URL:https://towtruck-staging.tangiblelaunchpad.com/event/cambridge-on-may-18-2025-mto-in-yard-hands-on-training/
LOCATION:Eagle Towing Equipment\, 2455 Eagle Street North\, Cambridge\, ON\, N3H 4R7\, Canada
CATEGORIES:tickets-available
ATTACH;FMTTYPE=image/png:https://towtruck-staging.tangiblelaunchpad.com/wp-content/uploads/2024/12/smaller1.png
ORGANIZER;CN="WreckMaster":MAILTO:info@towtruckdrivertraining.ca
END:VEVENT
BEGIN:VEVENT
DTSTART;TZID=America/Toronto:20250517T090000
DTEND;TZID=America/Toronto:20250517T150000
DTSTAMP:20260419T120905
CREATED:20250430T222621Z
LAST-MODIFIED:20250430T222621Z
UID:10000536-1747472400-1747494000@towtruck-staging.tangiblelaunchpad.com
SUMMARY:Cambridge ON\, May 17\, 2025 MTO In-Yard Hands-On Training
DESCRIPTION:
URL:https://towtruck-staging.tangiblelaunchpad.com/event/cambridge-on-may-17-2025-mto-in-yard-hands-on-training/
LOCATION:Eagle Towing Equipment\, 2455 Eagle Street North\, Cambridge\, ON\, N3H 4R7\, Canada
ATTACH;FMTTYPE=image/png:https://towtruck-staging.tangiblelaunchpad.com/wp-content/uploads/2024/06/TTDT-BUTTON-NEW.png
ORGANIZER;CN="WreckMaster":MAILTO:info@towtruckdrivertraining.ca
END:VEVENT
END:VCALENDAR