BEGIN:VCALENDAR
VERSION:2.0
PRODID:-//Tow Truck Driver Training - ECPv6.15.20//NONSGML v1.0//EN
CALSCALE:GREGORIAN
METHOD:PUBLISH
X-WR-CALNAME:Tow Truck Driver Training
X-ORIGINAL-URL:https://towtruck-staging.tangiblelaunchpad.com
X-WR-CALDESC:Events for Tow Truck Driver Training
REFRESH-INTERVAL;VALUE=DURATION:PT1H
X-Robots-Tag:noindex
X-PUBLISHED-TTL:PT1H
BEGIN:VTIMEZONE
TZID:America/Toronto
BEGIN:DAYLIGHT
TZOFFSETFROM:-0500
TZOFFSETTO:-0400
TZNAME:EDT
DTSTART:20230312T070000
END:DAYLIGHT
BEGIN:STANDARD
TZOFFSETFROM:-0400
TZOFFSETTO:-0500
TZNAME:EST
DTSTART:20231105T060000
END:STANDARD
BEGIN:DAYLIGHT
TZOFFSETFROM:-0500
TZOFFSETTO:-0400
TZNAME:EDT
DTSTART:20240310T070000
END:DAYLIGHT
BEGIN:STANDARD
TZOFFSETFROM:-0400
TZOFFSETTO:-0500
TZNAME:EST
DTSTART:20241103T060000
END:STANDARD
BEGIN:DAYLIGHT
TZOFFSETFROM:-0500
TZOFFSETTO:-0400
TZNAME:EDT
DTSTART:20250309T070000
END:DAYLIGHT
BEGIN:STANDARD
TZOFFSETFROM:-0400
TZOFFSETTO:-0500
TZNAME:EST
DTSTART:20251102T060000
END:STANDARD
END:VTIMEZONE
BEGIN:VEVENT
DTSTART;TZID=America/Toronto:20241005T090000
DTEND;TZID=America/Toronto:20241005T150000
DTSTAMP:20260420T002750
CREATED:20240924T203703Z
LAST-MODIFIED:20241212T172006Z
UID:10000481-1728118800-1728140400@towtruck-staging.tangiblelaunchpad.com
SUMMARY:Barrie\, ON Oct 5\, 2024 MTO In-Yard Hands-On Training
DESCRIPTION:
URL:https://towtruck-staging.tangiblelaunchpad.com/event/barrie-on-oct-5-2024-mto-in-yard-hands-on-training/
LOCATION:Classic Towing Barrie\, 257 Tiffin Road\, Barrie\, ON\, L4N 2N4\, Canada
ATTACH;FMTTYPE=image/png:https://towtruck-staging.tangiblelaunchpad.com/wp-content/uploads/2024/06/TTDT-BUTTON-NEW-Evauluation-Temp.png
ORGANIZER;CN="WreckMaster":MAILTO:info@towtruckdrivertraining.ca
END:VEVENT
BEGIN:VEVENT
DTSTART;TZID=America/Toronto:20240929T090000
DTEND;TZID=America/Toronto:20240929T150000
DTSTAMP:20260420T002750
CREATED:20240927T201245Z
LAST-MODIFIED:20241212T201617Z
UID:10000484-1727600400-1727622000@towtruck-staging.tangiblelaunchpad.com
SUMMARY:Chatham\, ON Sept 29\, 2024 MTO In-Yard Hands-On Training
DESCRIPTION:
URL:https://towtruck-staging.tangiblelaunchpad.com/event/chatham-on-sept-29-2024-mto-in-yard-hands-on-training/
LOCATION:Chatham Towing Services Ltd\, 745 Richmond St\, Chatham\, Ontario\, N7M 5J5\, Canada
ATTACH;FMTTYPE=image/png:https://towtruck-staging.tangiblelaunchpad.com/wp-content/uploads/2024/03/YARD-TRAINING-DTS-BUTTON.png
ORGANIZER;CN="WreckMaster":MAILTO:info@towtruckdrivertraining.ca
END:VEVENT
BEGIN:VEVENT
DTSTART;TZID=America/Toronto:20240929T090000
DTEND;TZID=America/Toronto:20240929T150000
DTSTAMP:20260420T002750
CREATED:20240918T161415Z
LAST-MODIFIED:20241212T171940Z
UID:10000478-1727600400-1727622000@towtruck-staging.tangiblelaunchpad.com
SUMMARY:Bolton\, ON September 29\, 2024 In-Yard Hands-On Training
DESCRIPTION:
URL:https://towtruck-staging.tangiblelaunchpad.com/event/bolton-on-september-29-2024-in-yard-hands-on-training/
LOCATION:Olympic Roadside\, 159 Industrial Rd Unit #1\, Bolton\, Ontario\, L7E 1K5\, Canada
ATTACH;FMTTYPE=image/png:https://towtruck-staging.tangiblelaunchpad.com/wp-content/uploads/2024/03/YARD-TRAINING-DTS-BUTTON.png
ORGANIZER;CN="WreckMaster":MAILTO:info@towtruckdrivertraining.ca
END:VEVENT
BEGIN:VEVENT
DTSTART;TZID=America/Toronto:20240928T090000
DTEND;TZID=America/Toronto:20240928T150000
DTSTAMP:20260420T002750
CREATED:20240918T003150Z
LAST-MODIFIED:20241212T171929Z
UID:10000477-1727514000-1727535600@towtruck-staging.tangiblelaunchpad.com
SUMMARY:Bolton\, ON September 28\, 2024 In-Yard Hands-On Training
DESCRIPTION:
URL:https://towtruck-staging.tangiblelaunchpad.com/event/bolton-on-september-28-2024-in-yard-hands-on-training/
LOCATION:Olympic Roadside\, 159 Industrial Rd Unit #1\, Bolton\, Ontario\, L7E 1K5\, Canada
ATTACH;FMTTYPE=image/png:https://towtruck-staging.tangiblelaunchpad.com/wp-content/uploads/2024/03/YARD-TRAINING-DTS-BUTTON.png
ORGANIZER;CN="WreckMaster":MAILTO:info@towtruckdrivertraining.ca
END:VEVENT
BEGIN:VEVENT
DTSTART;TZID=America/Toronto:20240921T100000
DTEND;TZID=America/Toronto:20240921T160000
DTSTAMP:20260420T002750
CREATED:20240909T211945Z
LAST-MODIFIED:20241217T145427Z
UID:10000475-1726912800-1726934400@towtruck-staging.tangiblelaunchpad.com
SUMMARY:Napean\, ON September 21\, 2024 In-Yard Hands-On Training
DESCRIPTION:
URL:https://towtruck-staging.tangiblelaunchpad.com/event/napean-on-september-21-2024-in-yard-hands-on-training/
LOCATION:SMC Towing Group\, 120 Bentley Avenue\, Nepean\, ON\, K2E 6T9\, Canada
CATEGORIES:Canada Hands-on
ATTACH;FMTTYPE=image/png:https://towtruck-staging.tangiblelaunchpad.com/wp-content/uploads/2024/03/YARD-TRAINING-DTS-BUTTON.png
ORGANIZER;CN="WreckMaster":MAILTO:info@towtruckdrivertraining.ca
END:VEVENT
BEGIN:VEVENT
DTSTART;TZID=America/Toronto:20240921T090000
DTEND;TZID=America/Toronto:20240921T150000
DTSTAMP:20260420T002750
CREATED:20240917T153528Z
LAST-MODIFIED:20241212T171522Z
UID:10000476-1726909200-1726930800@towtruck-staging.tangiblelaunchpad.com
SUMMARY:Ottawa\, ON September 21\, 2024 In-Yard Hands-On Training
DESCRIPTION:
URL:https://towtruck-staging.tangiblelaunchpad.com/event/ottawa-on-september-21-2024-in-yard-hands-on-training/
LOCATION:Metro Towing\, 2759 Lancaster Rd\, Ottawa\, Ontario\, K1B 4V8\, Canada
ATTACH;FMTTYPE=image/png:https://towtruck-staging.tangiblelaunchpad.com/wp-content/uploads/2024/03/YARD-TRAINING-DTS-BUTTON.png
ORGANIZER;CN="WreckMaster":MAILTO:info@towtruckdrivertraining.ca
END:VEVENT
BEGIN:VEVENT
DTSTART;TZID=America/Toronto:20240913T130000
DTEND;TZID=America/Toronto:20240913T190000
DTSTAMP:20260420T002750
CREATED:20240829T174307Z
LAST-MODIFIED:20241212T201423Z
UID:10000474-1726232400-1726254000@towtruck-staging.tangiblelaunchpad.com
SUMMARY:Kitchener\, ON September 13\, 2024 MTO In-Yard Hands-On Training
DESCRIPTION:
URL:https://towtruck-staging.tangiblelaunchpad.com/event/kitchener-on-september-13-2024-mto-in-yard-hands-on-training/
LOCATION:PTAO Trade Show 2024\, 425 Bingemans Centre Drive\, Kitchener\, ON\, N2B 3X7\, Canada
ATTACH;FMTTYPE=image/png:https://towtruck-staging.tangiblelaunchpad.com/wp-content/uploads/2024/03/YARD-TRAINING-DTS-BUTTON.png
ORGANIZER;CN="WreckMaster":MAILTO:info@towtruckdrivertraining.ca
END:VEVENT
BEGIN:VEVENT
DTSTART;TZID=America/Toronto:20240908T090000
DTEND;TZID=America/Toronto:20240908T150000
DTSTAMP:20260420T002750
CREATED:20240826T211019Z
LAST-MODIFIED:20241212T171452Z
UID:10000473-1725786000-1725807600@towtruck-staging.tangiblelaunchpad.com
SUMMARY:Vineland\, ON September 8\, 2024 MTO In-Yard Hands-On Training
DESCRIPTION:
URL:https://towtruck-staging.tangiblelaunchpad.com/event/vineland-on-september-8-2024-mto-in-yard-hands-on-training/
LOCATION:J N E Recovery\, 4283 Victoria Ave\, Vineland\, ON\, L0R 2C0\, Canada
ATTACH;FMTTYPE=image/png:https://towtruck-staging.tangiblelaunchpad.com/wp-content/uploads/2024/03/YARD-TRAINING-DTS-BUTTON.png
ORGANIZER;CN="WreckMaster":MAILTO:info@towtruckdrivertraining.ca
END:VEVENT
BEGIN:VEVENT
DTSTART;TZID=America/Toronto:20240907T090000
DTEND;TZID=America/Toronto:20240907T150000
DTSTAMP:20260420T002750
CREATED:20240820T154541Z
LAST-MODIFIED:20241212T203921Z
UID:10000471-1725699600-1725721200@towtruck-staging.tangiblelaunchpad.com
SUMMARY:Vineland\, ON September 7\, 2024 MTO In-Yard Hands-On Training
DESCRIPTION:
URL:https://towtruck-staging.tangiblelaunchpad.com/event/vineland-on-september-7-2024-mto-in-yard-hands-on-training/
LOCATION:J N E Recovery\, 4283 Victoria Ave\, Vineland\, ON\, L0R 2C0\, Canada
ATTACH;FMTTYPE=image/png:https://towtruck-staging.tangiblelaunchpad.com/wp-content/uploads/2024/03/YARD-TRAINING-DTS-BUTTON.png
ORGANIZER;CN="WreckMaster":MAILTO:info@towtruckdrivertraining.ca
END:VEVENT
BEGIN:VEVENT
DTSTART;TZID=America/Toronto:20240831T090000
DTEND;TZID=America/Toronto:20240831T150000
DTSTAMP:20260420T002750
CREATED:20240809T204040Z
LAST-MODIFIED:20241212T171143Z
UID:10000468-1725094800-1725116400@towtruck-staging.tangiblelaunchpad.com
SUMMARY:Etobicoke\, ON August 31 In-Yard Hands-On Training
DESCRIPTION:Class Location: \nClassic Towing \n41 Westside Drive \nEtobicoke\, On \nM9C 1B3
URL:https://towtruck-staging.tangiblelaunchpad.com/event/etobicoke-on-august-31-in-yard-hands-on-training/
LOCATION:Classic Towing\, 41 Westside Drive\, Etobicoke\, ON\, M9C1B3\, Canada
ATTACH;FMTTYPE=image/png:https://towtruck-staging.tangiblelaunchpad.com/wp-content/uploads/2024/03/YARD-TRAINING-DTS-BUTTON.png
ORGANIZER;CN="WreckMaster":MAILTO:info@towtruckdrivertraining.ca
END:VEVENT
BEGIN:VEVENT
DTSTART;TZID=America/Toronto:20240825T090000
DTEND;TZID=America/Toronto:20240825T150000
DTSTAMP:20260420T002750
CREATED:20240814T194433Z
LAST-MODIFIED:20241212T171118Z
UID:10000469-1724576400-1724598000@towtruck-staging.tangiblelaunchpad.com
SUMMARY:Chatham\, ON August 25 2024 MTO In-Yard Hands-On Training
DESCRIPTION:Class Location \nDiamond Towing \n745 Richmond St\nChatham\, Ontario N7M 5J5
URL:https://towtruck-staging.tangiblelaunchpad.com/event/chatham-on-august-25-2024-mto-in-yard-hands-on-training/
LOCATION:Diamond Towing\, 745 Richmond Street\, Chatham\, ON\, N7M5J5\, Canada
ATTACH;FMTTYPE=image/png:https://towtruck-staging.tangiblelaunchpad.com/wp-content/uploads/2024/03/YARD-TRAINING-DTS-BUTTON.png
ORGANIZER;CN="WreckMaster":MAILTO:info@towtruckdrivertraining.ca
END:VEVENT
BEGIN:VEVENT
DTSTART;TZID=America/Toronto:20240720T090000
DTEND;TZID=America/Toronto:20240720T090000
DTSTAMP:20260420T002750
CREATED:20240709T175326Z
LAST-MODIFIED:20241212T170853Z
UID:10000463-1721466000-1721466000@towtruck-staging.tangiblelaunchpad.com
SUMMARY:Chatham\, ON July 20 2024 MTO Tow Truck DTS Hands-On Training
DESCRIPTION:
URL:https://towtruck-staging.tangiblelaunchpad.com/event/chatham-on-july-20-2024-mto-tow-truck-dts-hands-on-training/
LOCATION:Chatham Towing Services Ltd\, 745 Richmond St\, Chatham\, Ontario\, N7M 5J5\, Canada
ATTACH;FMTTYPE=image/png:https://towtruck-staging.tangiblelaunchpad.com/wp-content/uploads/2024/03/YARD-TRAINING-DTS-BUTTON.png
ORGANIZER;CN="WreckMaster":MAILTO:info@towtruckdrivertraining.ca
END:VEVENT
BEGIN:VEVENT
DTSTART;TZID=America/Toronto:20240713T090000
DTEND;TZID=America/Toronto:20240713T150000
DTSTAMP:20260420T002750
CREATED:20240328T184610Z
LAST-MODIFIED:20241212T170839Z
UID:10000459-1720861200-1720882800@towtruck-staging.tangiblelaunchpad.com
SUMMARY:Chatham\, ON July 13 2024 MTO Tow Truck DTS Hands-On Training
DESCRIPTION:
URL:https://towtruck-staging.tangiblelaunchpad.com/event/niagara-falls-on-july-13-2024-mto-tow-truck-dts-hands-on-training/
LOCATION:Chatham Towing Services Ltd\, 745 Richmond St\, Chatham\, Ontario\, N7M 5J5\, Canada
ATTACH;FMTTYPE=image/png:https://towtruck-staging.tangiblelaunchpad.com/wp-content/uploads/2024/03/YARD-TRAINING-DTS-BUTTON.png
ORGANIZER;CN="WreckMaster":MAILTO:info@towtruckdrivertraining.ca
END:VEVENT
END:VCALENDAR