BEGIN:VCALENDAR
VERSION:2.0
PRODID:-//Tow Truck Driver Training - ECPv6.15.20//NONSGML v1.0//EN
CALSCALE:GREGORIAN
METHOD:PUBLISH
X-WR-CALNAME:Tow Truck Driver Training
X-ORIGINAL-URL:https://towtruck-staging.tangiblelaunchpad.com
X-WR-CALDESC:Events for Tow Truck Driver Training
REFRESH-INTERVAL;VALUE=DURATION:PT1H
X-Robots-Tag:noindex
X-PUBLISHED-TTL:PT1H
BEGIN:VTIMEZONE
TZID:America/Toronto
BEGIN:DAYLIGHT
TZOFFSETFROM:-0500
TZOFFSETTO:-0400
TZNAME:EDT
DTSTART:20230312T070000
END:DAYLIGHT
BEGIN:STANDARD
TZOFFSETFROM:-0400
TZOFFSETTO:-0500
TZNAME:EST
DTSTART:20231105T060000
END:STANDARD
BEGIN:DAYLIGHT
TZOFFSETFROM:-0500
TZOFFSETTO:-0400
TZNAME:EDT
DTSTART:20240310T070000
END:DAYLIGHT
BEGIN:STANDARD
TZOFFSETFROM:-0400
TZOFFSETTO:-0500
TZNAME:EST
DTSTART:20241103T060000
END:STANDARD
BEGIN:DAYLIGHT
TZOFFSETFROM:-0500
TZOFFSETTO:-0400
TZNAME:EDT
DTSTART:20250309T070000
END:DAYLIGHT
BEGIN:STANDARD
TZOFFSETFROM:-0400
TZOFFSETTO:-0500
TZNAME:EST
DTSTART:20251102T060000
END:STANDARD
END:VTIMEZONE
BEGIN:VEVENT
DTSTART;TZID=America/Toronto:20241116T090000
DTEND;TZID=America/Toronto:20241116T150000
DTSTAMP:20260419T172847
CREATED:20241107T193437Z
LAST-MODIFIED:20241212T172445Z
UID:10000494-1731747600-1731769200@towtruck-staging.tangiblelaunchpad.com
SUMMARY:Milton ON\, Nov 16 2024\, MTO In-Yard Hands-On Training
DESCRIPTION:
URL:https://towtruck-staging.tangiblelaunchpad.com/event/milton-on-nov-16-2024-mto-in-yard-hands-on-training/
LOCATION:C.A. Towing\, 2485 Campbellville Rd\, Milton\, ON\, L0P 1B0\, Canada
ATTACH;FMTTYPE=image/png:https://towtruck-staging.tangiblelaunchpad.com/wp-content/uploads/2024/06/TTDT-BUTTON-NEW.png
ORGANIZER;CN="WreckMaster":MAILTO:info@towtruckdrivertraining.ca
END:VEVENT
BEGIN:VEVENT
DTSTART;TZID=America/Toronto:20241115T090000
DTEND;TZID=America/Toronto:20241115T150000
DTSTAMP:20260419T172847
CREATED:20241029T163429Z
LAST-MODIFIED:20241212T172431Z
UID:10000491-1731661200-1731682800@towtruck-staging.tangiblelaunchpad.com
SUMMARY:Milton ON\, Nov 15 2024\, MTO In-Yard Hands-On Training
DESCRIPTION:
URL:https://towtruck-staging.tangiblelaunchpad.com/event/milton-on-nov-15-2024-mto-in-yard-hands-on-training/
LOCATION:C.A. Towing\, 2485 Campbellville Rd\, Milton\, ON\, L0P 1B0\, Canada
ATTACH;FMTTYPE=image/png:https://towtruck-staging.tangiblelaunchpad.com/wp-content/uploads/2024/06/TTDT-BUTTON-NEW.png
ORGANIZER;CN="WreckMaster":MAILTO:info@towtruckdrivertraining.ca
END:VEVENT
END:VCALENDAR