BEGIN:VCALENDAR
VERSION:2.0
PRODID:-//Tow Truck Driver Training - ECPv6.15.20//NONSGML v1.0//EN
CALSCALE:GREGORIAN
METHOD:PUBLISH
X-WR-CALNAME:Tow Truck Driver Training
X-ORIGINAL-URL:https://towtruck-staging.tangiblelaunchpad.com
X-WR-CALDESC:Events for Tow Truck Driver Training
REFRESH-INTERVAL;VALUE=DURATION:PT1H
X-Robots-Tag:noindex
X-PUBLISHED-TTL:PT1H
BEGIN:VTIMEZONE
TZID:America/Toronto
BEGIN:DAYLIGHT
TZOFFSETFROM:-0500
TZOFFSETTO:-0400
TZNAME:EDT
DTSTART:20230312T070000
END:DAYLIGHT
BEGIN:STANDARD
TZOFFSETFROM:-0400
TZOFFSETTO:-0500
TZNAME:EST
DTSTART:20231105T060000
END:STANDARD
BEGIN:DAYLIGHT
TZOFFSETFROM:-0500
TZOFFSETTO:-0400
TZNAME:EDT
DTSTART:20240310T070000
END:DAYLIGHT
BEGIN:STANDARD
TZOFFSETFROM:-0400
TZOFFSETTO:-0500
TZNAME:EST
DTSTART:20241103T060000
END:STANDARD
BEGIN:DAYLIGHT
TZOFFSETFROM:-0500
TZOFFSETTO:-0400
TZNAME:EDT
DTSTART:20250309T070000
END:DAYLIGHT
BEGIN:STANDARD
TZOFFSETFROM:-0400
TZOFFSETTO:-0500
TZNAME:EST
DTSTART:20251102T060000
END:STANDARD
END:VTIMEZONE
BEGIN:VEVENT
DTSTART;TZID=America/Toronto:20241006T090000
DTEND;TZID=America/Toronto:20241006T150000
DTSTAMP:20260419T162937
CREATED:20240927T144037Z
LAST-MODIFIED:20241212T172017Z
UID:10000483-1728205200-1728226800@towtruck-staging.tangiblelaunchpad.com
SUMMARY:Barrie\, ON Oct 6\, 2024 MTO In-Yard Hands-On Training
DESCRIPTION:
URL:https://towtruck-staging.tangiblelaunchpad.com/event/barrie-on-oct-6-2024-mto-in-yard-hands-on-training/
LOCATION:Classic Towing Barrie\, 257 Tiffin Road\, Barrie\, ON\, L4N 2N4\, Canada
ATTACH;FMTTYPE=image/png:https://towtruck-staging.tangiblelaunchpad.com/wp-content/uploads/2024/06/TTDT-BUTTON-NEW-Evauluation-Temp.png
ORGANIZER;CN="WreckMaster":MAILTO:info@towtruckdrivertraining.ca
END:VEVENT
BEGIN:VEVENT
DTSTART;TZID=America/Toronto:20241005T090000
DTEND;TZID=America/Toronto:20241005T150000
DTSTAMP:20260419T162937
CREATED:20240924T203703Z
LAST-MODIFIED:20241212T172006Z
UID:10000481-1728118800-1728140400@towtruck-staging.tangiblelaunchpad.com
SUMMARY:Barrie\, ON Oct 5\, 2024 MTO In-Yard Hands-On Training
DESCRIPTION:
URL:https://towtruck-staging.tangiblelaunchpad.com/event/barrie-on-oct-5-2024-mto-in-yard-hands-on-training/
LOCATION:Classic Towing Barrie\, 257 Tiffin Road\, Barrie\, ON\, L4N 2N4\, Canada
ATTACH;FMTTYPE=image/png:https://towtruck-staging.tangiblelaunchpad.com/wp-content/uploads/2024/06/TTDT-BUTTON-NEW-Evauluation-Temp.png
ORGANIZER;CN="WreckMaster":MAILTO:info@towtruckdrivertraining.ca
END:VEVENT
END:VCALENDAR