BEGIN:VCALENDAR
VERSION:2.0
PRODID:-//Tow Truck Driver Training - ECPv6.15.20//NONSGML v1.0//EN
CALSCALE:GREGORIAN
METHOD:PUBLISH
X-WR-CALNAME:Tow Truck Driver Training
X-ORIGINAL-URL:https://towtruck-staging.tangiblelaunchpad.com
X-WR-CALDESC:Events for Tow Truck Driver Training
REFRESH-INTERVAL;VALUE=DURATION:PT1H
X-Robots-Tag:noindex
X-PUBLISHED-TTL:PT1H
BEGIN:VTIMEZONE
TZID:America/Toronto
BEGIN:DAYLIGHT
TZOFFSETFROM:-0500
TZOFFSETTO:-0400
TZNAME:EDT
DTSTART:20230312T070000
END:DAYLIGHT
BEGIN:STANDARD
TZOFFSETFROM:-0400
TZOFFSETTO:-0500
TZNAME:EST
DTSTART:20231105T060000
END:STANDARD
BEGIN:DAYLIGHT
TZOFFSETFROM:-0500
TZOFFSETTO:-0400
TZNAME:EDT
DTSTART:20240310T070000
END:DAYLIGHT
BEGIN:STANDARD
TZOFFSETFROM:-0400
TZOFFSETTO:-0500
TZNAME:EST
DTSTART:20241103T060000
END:STANDARD
BEGIN:DAYLIGHT
TZOFFSETFROM:-0500
TZOFFSETTO:-0400
TZNAME:EDT
DTSTART:20250309T070000
END:DAYLIGHT
BEGIN:STANDARD
TZOFFSETFROM:-0400
TZOFFSETTO:-0500
TZNAME:EST
DTSTART:20251102T060000
END:STANDARD
BEGIN:DAYLIGHT
TZOFFSETFROM:-0500
TZOFFSETTO:-0400
TZNAME:EDT
DTSTART:20260308T070000
END:DAYLIGHT
BEGIN:STANDARD
TZOFFSETFROM:-0400
TZOFFSETTO:-0500
TZNAME:EST
DTSTART:20261101T060000
END:STANDARD
END:VTIMEZONE
BEGIN:VEVENT
DTSTART;TZID=America/Toronto:20250316T090000
DTEND;TZID=America/Toronto:20250316T150000
DTSTAMP:20260419T172846
CREATED:20250311T161333Z
LAST-MODIFIED:20250311T192559Z
UID:10000522-1742115600-1742137200@towtruck-staging.tangiblelaunchpad.com
SUMMARY:Kingston ON\, Mar 16 2025\, MTO In-Yard Hands-On Training
DESCRIPTION:
URL:https://towtruck-staging.tangiblelaunchpad.com/event/kingston-on-mar-16-2025-mto-in-yard-hands-on-training/
LOCATION:Jack’s Towing Service\, 840 John Counter Blvd\, Kingston\, ON\, K7K2R1\, Canada
CATEGORIES:tickets-available
ATTACH;FMTTYPE=image/png:https://towtruck-staging.tangiblelaunchpad.com/wp-content/uploads/2024/06/TTDT-BUTTON-NEW.png
ORGANIZER;CN="WreckMaster":MAILTO:info@towtruckdrivertraining.ca
END:VEVENT
BEGIN:VEVENT
DTSTART;TZID=America/Toronto:20250315T090000
DTEND;TZID=America/Toronto:20250315T150000
DTSTAMP:20260419T172846
CREATED:20250207T235712Z
LAST-MODIFIED:20250211T174817Z
UID:10000518-1742029200-1742050800@towtruck-staging.tangiblelaunchpad.com
SUMMARY:Kingston ON\, Mar 15 2025\, MTO In-Yard Hands-On Training
DESCRIPTION:
URL:https://towtruck-staging.tangiblelaunchpad.com/event/kingston-on-mar-15-2025-mto-in-yard-hands-on-training/
LOCATION:Jack’s Towing Service\, 840 John Counter Blvd\, Kingston\, ON\, K7K2R1\, Canada
CATEGORIES:tickets-available
ATTACH;FMTTYPE=image/png:https://towtruck-staging.tangiblelaunchpad.com/wp-content/uploads/2024/06/TTDT-BUTTON-NEW.png
ORGANIZER;CN="WreckMaster":MAILTO:info@towtruckdrivertraining.ca
END:VEVENT
BEGIN:VEVENT
DTSTART;TZID=America/Toronto:20241124T090000
DTEND;TZID=America/Toronto:20241124T150000
DTSTAMP:20260419T172846
CREATED:20241118T181739Z
LAST-MODIFIED:20241212T172516Z
UID:10000495-1732438800-1732460400@towtruck-staging.tangiblelaunchpad.com
SUMMARY:Kingston ON\, Nov 24 2024\, MTO In-Yard Hands-On Training
DESCRIPTION:
URL:https://towtruck-staging.tangiblelaunchpad.com/event/kingston-on-nov-24-2024-mto-in-yard-hands-on-training/
LOCATION:Jack’s Towing Service\, 840 John Counter Blvd\, Kingston\, ON\, K7K2R1\, Canada
ATTACH;FMTTYPE=image/png:https://towtruck-staging.tangiblelaunchpad.com/wp-content/uploads/2024/06/TTDT-BUTTON-NEW.png
ORGANIZER;CN="WreckMaster":MAILTO:info@towtruckdrivertraining.ca
END:VEVENT
BEGIN:VEVENT
DTSTART;TZID=America/Toronto:20241123T090000
DTEND;TZID=America/Toronto:20241123T150000
DTSTAMP:20260419T172846
CREATED:20241029T171642Z
LAST-MODIFIED:20241212T172502Z
UID:10000492-1732352400-1732374000@towtruck-staging.tangiblelaunchpad.com
SUMMARY:Kingston ON\, Nov 23 2024\, MTO In-Yard Hands-On Training
DESCRIPTION:
URL:https://towtruck-staging.tangiblelaunchpad.com/event/kingston-on-nov-23-2024-mto-in-yard-hands-on-training/
LOCATION:Jack’s Towing Service\, 840 John Counter Blvd\, Kingston\, ON\, K7K2R1\, Canada
ATTACH;FMTTYPE=image/png:https://towtruck-staging.tangiblelaunchpad.com/wp-content/uploads/2024/06/TTDT-BUTTON-NEW.png
ORGANIZER;CN="WreckMaster":MAILTO:info@towtruckdrivertraining.ca
END:VEVENT
END:VCALENDAR