BEGIN:VCALENDAR
VERSION:2.0
PRODID:-//Tow Truck Driver Training - ECPv6.15.20//NONSGML v1.0//EN
CALSCALE:GREGORIAN
METHOD:PUBLISH
X-ORIGINAL-URL:https://towtruck-staging.tangiblelaunchpad.com
X-WR-CALDESC:Events for Tow Truck Driver Training
REFRESH-INTERVAL;VALUE=DURATION:PT1H
X-Robots-Tag:noindex
X-PUBLISHED-TTL:PT1H
BEGIN:VTIMEZONE
TZID:America/Toronto
BEGIN:DAYLIGHT
TZOFFSETFROM:-0500
TZOFFSETTO:-0400
TZNAME:EDT
DTSTART:20240310T070000
END:DAYLIGHT
BEGIN:STANDARD
TZOFFSETFROM:-0400
TZOFFSETTO:-0500
TZNAME:EST
DTSTART:20241103T060000
END:STANDARD
BEGIN:DAYLIGHT
TZOFFSETFROM:-0500
TZOFFSETTO:-0400
TZNAME:EDT
DTSTART:20250309T070000
END:DAYLIGHT
BEGIN:STANDARD
TZOFFSETFROM:-0400
TZOFFSETTO:-0500
TZNAME:EST
DTSTART:20251102T060000
END:STANDARD
BEGIN:DAYLIGHT
TZOFFSETFROM:-0500
TZOFFSETTO:-0400
TZNAME:EDT
DTSTART:20260308T070000
END:DAYLIGHT
BEGIN:STANDARD
TZOFFSETFROM:-0400
TZOFFSETTO:-0500
TZNAME:EST
DTSTART:20261101T060000
END:STANDARD
END:VTIMEZONE
BEGIN:VEVENT
DTSTART;TZID=America/Toronto:20250105T090000
DTEND;TZID=America/Toronto:20250105T150000
DTSTAMP:20260419T192204
CREATED:20241227T153625Z
LAST-MODIFIED:20241227T153625Z
UID:10000504-1736067600-1736089200@towtruck-staging.tangiblelaunchpad.com
SUMMARY:Burlington ON\, Jan 5 2025\, MTO In-Yard Hands-On Training
DESCRIPTION:
URL:https://towtruck-staging.tangiblelaunchpad.com/event/burlington-on-jan-5-2025-mto-in-yard-hands-on-training/
LOCATION:JKM Towing Inc\, 1231 King Rd\, Burlington\, ON\, L7T 0B7\, Canada
ATTACH;FMTTYPE=image/png:https://towtruck-staging.tangiblelaunchpad.com/wp-content/uploads/2024/06/TTDT-BUTTON-NEW.png
ORGANIZER;CN="WreckMaster":MAILTO:info@towtruckdrivertraining.ca
END:VEVENT
BEGIN:VEVENT
DTSTART;TZID=America/Toronto:20250104T090000
DTEND;TZID=America/Toronto:20250104T150000
DTSTAMP:20260419T192204
CREATED:20241222T222412Z
LAST-MODIFIED:20241222T222412Z
UID:10000503-1735981200-1736002800@towtruck-staging.tangiblelaunchpad.com
SUMMARY:Burlington ON\, Jan 4 2025\, MTO In-Yard Hands-On Training
DESCRIPTION:
URL:https://towtruck-staging.tangiblelaunchpad.com/event/burlington-on-jan-4-2025-mto-in-yard-hands-on-training/
LOCATION:JKM Towing Inc\, 1231 King Rd\, Burlington\, ON\, L7T 0B7\, Canada
ATTACH;FMTTYPE=image/png:https://towtruck-staging.tangiblelaunchpad.com/wp-content/uploads/2024/06/TTDT-BUTTON-NEW.png
ORGANIZER;CN="WreckMaster":MAILTO:info@towtruckdrivertraining.ca
END:VEVENT
END:VCALENDAR