BEGIN:VCALENDAR
VERSION:2.0
PRODID:-//Tow Truck Driver Training - ECPv6.15.20//NONSGML v1.0//EN
CALSCALE:GREGORIAN
METHOD:PUBLISH
X-WR-CALNAME:Tow Truck Driver Training
X-ORIGINAL-URL:https://towtruck-staging.tangiblelaunchpad.com
X-WR-CALDESC:Events for Tow Truck Driver Training
REFRESH-INTERVAL;VALUE=DURATION:PT1H
X-Robots-Tag:noindex
X-PUBLISHED-TTL:PT1H
BEGIN:VTIMEZONE
TZID:America/Toronto
BEGIN:DAYLIGHT
TZOFFSETFROM:-0500
TZOFFSETTO:-0400
TZNAME:EDT
DTSTART:20230312T070000
END:DAYLIGHT
BEGIN:STANDARD
TZOFFSETFROM:-0400
TZOFFSETTO:-0500
TZNAME:EST
DTSTART:20231105T060000
END:STANDARD
BEGIN:DAYLIGHT
TZOFFSETFROM:-0500
TZOFFSETTO:-0400
TZNAME:EDT
DTSTART:20240310T070000
END:DAYLIGHT
BEGIN:STANDARD
TZOFFSETFROM:-0400
TZOFFSETTO:-0500
TZNAME:EST
DTSTART:20241103T060000
END:STANDARD
BEGIN:DAYLIGHT
TZOFFSETFROM:-0500
TZOFFSETTO:-0400
TZNAME:EDT
DTSTART:20250309T070000
END:DAYLIGHT
BEGIN:STANDARD
TZOFFSETFROM:-0400
TZOFFSETTO:-0500
TZNAME:EST
DTSTART:20251102T060000
END:STANDARD
END:VTIMEZONE
BEGIN:VEVENT
DTSTART;TZID=America/Toronto:20240929T090000
DTEND;TZID=America/Toronto:20240929T150000
DTSTAMP:20260419T162754
CREATED:20240918T161415Z
LAST-MODIFIED:20241212T171940Z
UID:10000478-1727600400-1727622000@towtruck-staging.tangiblelaunchpad.com
SUMMARY:Bolton\, ON September 29\, 2024 In-Yard Hands-On Training
DESCRIPTION:
URL:https://towtruck-staging.tangiblelaunchpad.com/event/bolton-on-september-29-2024-in-yard-hands-on-training/
LOCATION:Olympic Roadside\, 159 Industrial Rd Unit #1\, Bolton\, Ontario\, L7E 1K5\, Canada
ATTACH;FMTTYPE=image/png:https://towtruck-staging.tangiblelaunchpad.com/wp-content/uploads/2024/03/YARD-TRAINING-DTS-BUTTON.png
ORGANIZER;CN="WreckMaster":MAILTO:info@towtruckdrivertraining.ca
END:VEVENT
BEGIN:VEVENT
DTSTART;TZID=America/Toronto:20240928T090000
DTEND;TZID=America/Toronto:20240928T150000
DTSTAMP:20260419T162754
CREATED:20240918T003150Z
LAST-MODIFIED:20241212T171929Z
UID:10000477-1727514000-1727535600@towtruck-staging.tangiblelaunchpad.com
SUMMARY:Bolton\, ON September 28\, 2024 In-Yard Hands-On Training
DESCRIPTION:
URL:https://towtruck-staging.tangiblelaunchpad.com/event/bolton-on-september-28-2024-in-yard-hands-on-training/
LOCATION:Olympic Roadside\, 159 Industrial Rd Unit #1\, Bolton\, Ontario\, L7E 1K5\, Canada
ATTACH;FMTTYPE=image/png:https://towtruck-staging.tangiblelaunchpad.com/wp-content/uploads/2024/03/YARD-TRAINING-DTS-BUTTON.png
ORGANIZER;CN="WreckMaster":MAILTO:info@towtruckdrivertraining.ca
END:VEVENT
END:VCALENDAR